Package: MineICA Version: 1.48.0 Command: E:\biocbuild\bbs-3.21-bioc\R\bin\R.exe CMD INSTALL MineICA StartedAt: 2025-08-14 17:08:57 -0400 (Thu, 14 Aug 2025) EndedAt: 2025-08-14 17:10:03 -0400 (Thu, 14 Aug 2025) EllapsedTime: 65.8 seconds RetCode: 0 Status: OK