Package: MineICA Version: 1.48.0 Command: chmod a+r MineICA -R && E:\biocbuild\bbs-3.21-bioc\R\bin\R.exe CMD build --keep-empty-dirs --no-resave-data MineICA StartedAt: 2025-08-14 20:26:01 -0400 (Thu, 14 Aug 2025) EndedAt: 2025-08-14 20:29:16 -0400 (Thu, 14 Aug 2025) EllapsedTime: 194.5 seconds RetCode: 0 Status: OK PackageFile: MineICA_1.48.0.tar.gz PackageFileSize: 1.436 MiB