Package: MineICA Version: 1.48.0 Command: /Library/Frameworks/R.framework/Resources/bin/R CMD INSTALL MineICA StartedAt: 2025-10-13 16:52:15 -0400 (Mon, 13 Oct 2025) EndedAt: 2025-10-13 16:53:03 -0400 (Mon, 13 Oct 2025) EllapsedTime: 47.8 seconds RetCode: 0 Status: OK