Package: MineICA Version: 1.48.0 Command: rm -rf MineICA.buildbin-libdir && mkdir MineICA.buildbin-libdir && /Users/biocbuild/BBS/utils/build-universal.sh MineICA_1.48.0.tar.gz /Library/Frameworks/R.framework/Resources/bin/R MineICA.buildbin-libdir StartedAt: 2025-10-14 14:04:22 -0400 (Tue, 14 Oct 2025) EndedAt: 2025-10-14 14:06:36 -0400 (Tue, 14 Oct 2025) EllapsedTime: 134.1 seconds RetCode: 0 Status: OK PackageFile: MineICA_1.48.0.tgz PackageFileSize: 2.187 MiB