Package: MineICA Version: 1.48.0 Command: /home/biocbuild/R/R/bin/R CMD build --keep-empty-dirs --no-resave-data MineICA StartedAt: 2025-10-14 02:29:10 -0000 (Tue, 14 Oct 2025) EndedAt: 2025-10-14 02:31:36 -0000 (Tue, 14 Oct 2025) EllapsedTime: 146.0 seconds RetCode: 0 Status: OK PackageFile: MineICA_1.48.0.tar.gz PackageFileSize: 1.428 MiB