Package: MineICA Version: 1.48.0 Command: /Library/Frameworks/R.framework/Resources/bin/R CMD check --install=check:MineICA.install-out.txt --library=/Library/Frameworks/R.framework/Resources/library --no-vignettes --timings MineICA_1.48.0.tar.gz StartedAt: 2025-10-15 03:48:00 -0400 (Wed, 15 Oct 2025) EndedAt: 2025-10-15 03:52:47 -0400 (Wed, 15 Oct 2025) EllapsedTime: 287.0 seconds RetCode: 1 Status: ERROR CheckDir: MineICA.Rcheck Warnings: NA