Package: MineICA Version: 1.48.0 Command: /Library/Frameworks/R.framework/Resources/bin/R CMD build --keep-empty-dirs --no-resave-data MineICA StartedAt: 2025-10-14 04:23:41 -0400 (Tue, 14 Oct 2025) EndedAt: 2025-10-14 04:25:55 -0400 (Tue, 14 Oct 2025) EllapsedTime: 133.9 seconds RetCode: 0 Status: OK PackageFile: MineICA_1.48.0.tar.gz PackageFileSize: 1.433 MiB