Package: MicrobiomeProfiler Version: 1.14.0 Command: /Library/Frameworks/R.framework/Resources/bin/R CMD check --install=check:MicrobiomeProfiler.install-out.txt --library=/Library/Frameworks/R.framework/Resources/library --no-vignettes --timings MicrobiomeProfiler_1.14.0.tar.gz StartedAt: 2025-10-15 03:36:38 -0400 (Wed, 15 Oct 2025) EndedAt: 2025-10-15 03:39:42 -0400 (Wed, 15 Oct 2025) EllapsedTime: 184.3 seconds RetCode: 0 Status: OK CheckDir: MicrobiomeProfiler.Rcheck Warnings: 0