Package: MiRaGE Version: 1.50.0 Command: /home/biocbuild/R/R/bin/R CMD INSTALL MiRaGE StartedAt: 2025-10-09 21:14:11 -0000 (Thu, 09 Oct 2025) EndedAt: 2025-10-09 21:14:28 -0000 (Thu, 09 Oct 2025) EllapsedTime: 17.1 seconds RetCode: 0 Status: OK