Package: MiRaGE Version: 1.50.0 Command: /home/biocbuild/R/R/bin/R CMD check --install=check:MiRaGE.install-out.txt --library=/home/biocbuild/R/R/site-library --no-vignettes --timings MiRaGE_1.50.0.tar.gz StartedAt: 2025-10-10 11:04:35 -0000 (Fri, 10 Oct 2025) EndedAt: 2025-10-10 11:06:36 -0000 (Fri, 10 Oct 2025) EllapsedTime: 121.1 seconds RetCode: 0 Status: WARNINGS CheckDir: MiRaGE.Rcheck Warnings: 1