Package: MethylSeekR Version: 1.48.0 Command: chmod a+r MethylSeekR -R && E:\biocbuild\bbs-3.21-bioc\R\bin\R.exe CMD build --keep-empty-dirs --no-resave-data MethylSeekR StartedAt: 2025-08-14 20:20:55 -0400 (Thu, 14 Aug 2025) EndedAt: 2025-08-14 20:23:16 -0400 (Thu, 14 Aug 2025) EllapsedTime: 141.1 seconds RetCode: 0 Status: OK PackageFile: MethylSeekR_1.48.0.tar.gz PackageFileSize: 1.594 MiB