Package: MethylSeekR Version: 1.48.0 Command: rm -rf MethylSeekR.buildbin-libdir && mkdir MethylSeekR.buildbin-libdir && E:\biocbuild\bbs-3.21-bioc\R\bin\R.exe CMD INSTALL --build --library=MethylSeekR.buildbin-libdir MethylSeekR_1.48.0.tar.gz StartedAt: 2025-08-15 09:41:18 -0400 (Fri, 15 Aug 2025) EndedAt: 2025-08-15 09:42:06 -0400 (Fri, 15 Aug 2025) EllapsedTime: 47.3 seconds RetCode: 0 Status: OK PackageFile: MethylSeekR_1.48.0.zip PackageFileSize: 1.655 MiB