Package: MethylAid Version: 1.44.0 Command: /home/biocbuild/bbs-3.22-bioc/R/bin/R CMD INSTALL MethylAid StartedAt: 2025-11-06 15:42:37 -0500 (Thu, 06 Nov 2025) EndedAt: 2025-11-06 15:43:32 -0500 (Thu, 06 Nov 2025) EllapsedTime: 55.0 seconds RetCode: 0 Status: OK