Package: MethylAid Version: 1.44.0 Command: /home/biocbuild/bbs-3.22-bioc/R/bin/R CMD check --install=check:MethylAid.install-out.txt --library=/home/biocbuild/bbs-3.22-bioc/R/site-library --timings MethylAid_1.44.0.tar.gz StartedAt: 2025-11-07 01:15:41 -0500 (Fri, 07 Nov 2025) EndedAt: 2025-11-07 01:27:15 -0500 (Fri, 07 Nov 2025) EllapsedTime: 694.5 seconds RetCode: 0 Status: OK CheckDir: MethylAid.Rcheck Warnings: 0