Package: MethylAid Version: 1.44.0 Command: /home/biocbuild/bbs-3.22-bioc/R/bin/R CMD build --keep-empty-dirs --no-resave-data --md5 MethylAid StartedAt: 2025-11-06 18:35:21 -0500 (Thu, 06 Nov 2025) EndedAt: 2025-11-06 18:37:49 -0500 (Thu, 06 Nov 2025) EllapsedTime: 148.1 seconds RetCode: 0 Status: OK PackageFile: MethylAid_1.44.0.tar.gz PackageFileSize: 3.014 MiB