Package: MethTargetedNGS Version: 1.40.0 Command: E:\biocbuild\bbs-3.21-bioc\R\bin\R.exe CMD check --no-multiarch --install=check:MethTargetedNGS.install-out.txt --library=E:\biocbuild\bbs-3.21-bioc\R\library --no-vignettes --timings MethTargetedNGS_1.40.0.tar.gz StartedAt: 2025-08-15 03:58:24 -0400 (Fri, 15 Aug 2025) EndedAt: 2025-08-15 04:00:20 -0400 (Fri, 15 Aug 2025) EllapsedTime: 115.9 seconds RetCode: 0 Status: OK CheckDir: MethTargetedNGS.Rcheck Warnings: 0