Package: MethReg Version: 1.18.0 Command: /home/biocbuild/R/R/bin/R CMD INSTALL MethReg StartedAt: 2025-09-25 21:11:21 -0000 (Thu, 25 Sep 2025) EndedAt: 2025-09-25 21:12:28 -0000 (Thu, 25 Sep 2025) EllapsedTime: 67.0 seconds RetCode: 0 Status: OK