Package: MethReg Version: 1.18.0 Command: /home/biocbuild/R/R/bin/R CMD check --install=check:MethReg.install-out.txt --library=/home/biocbuild/R/R/site-library --no-vignettes --timings MethReg_1.18.0.tar.gz StartedAt: 2025-09-30 11:32:26 -0000 (Tue, 30 Sep 2025) EndedAt: 2025-09-30 11:44:14 -0000 (Tue, 30 Sep 2025) EllapsedTime: 707.6 seconds RetCode: 0 Status: OK CheckDir: MethReg.Rcheck Warnings: 0