Package: MetaPhOR Version: 1.10.0 Command: /Library/Frameworks/R.framework/Resources/bin/R CMD INSTALL MetaPhOR StartedAt: 2025-10-13 17:51:36 -0400 (Mon, 13 Oct 2025) EndedAt: 2025-10-13 17:52:07 -0400 (Mon, 13 Oct 2025) EllapsedTime: 30.7 seconds RetCode: 0 Status: OK