Package: MetaPhOR Version: 1.10.0 Command: rm -rf MetaPhOR.buildbin-libdir && mkdir MetaPhOR.buildbin-libdir && /Users/biocbuild/BBS/utils/build-universal.sh MetaPhOR_1.10.0.tar.gz /Library/Frameworks/R.framework/Resources/bin/R MetaPhOR.buildbin-libdir StartedAt: 2025-10-15 19:13:50 -0400 (Wed, 15 Oct 2025) EndedAt: 2025-10-15 19:14:25 -0400 (Wed, 15 Oct 2025) EllapsedTime: 35.3 seconds RetCode: 0 Status: OK PackageFile: MetaPhOR_1.10.0.tgz PackageFileSize: 2.77 MiB