Package: MetaDICT Version: 1.0.0 Command: /Library/Frameworks/R.framework/Resources/bin/R CMD check --install=check:MetaDICT.install-out.txt --library=/Library/Frameworks/R.framework/Resources/library --no-vignettes --timings MetaDICT_1.0.0.tar.gz StartedAt: 2025-11-03 22:21:17 -0500 (Mon, 03 Nov 2025) EndedAt: 2025-11-03 22:26:43 -0500 (Mon, 03 Nov 2025) EllapsedTime: 325.7 seconds RetCode: 0 Status: OK CheckDir: MetaDICT.Rcheck Warnings: 0