Package: MetNet Version: 1.26.1 Command: rm -rf MetNet.buildbin-libdir && mkdir MetNet.buildbin-libdir && E:\biocbuild\bbs-3.21-bioc\R\bin\R.exe CMD INSTALL --build --library=MetNet.buildbin-libdir MetNet_1.26.1.tar.gz StartedAt: 2025-08-15 09:41:34 -0400 (Fri, 15 Aug 2025) EndedAt: 2025-08-15 09:42:23 -0400 (Fri, 15 Aug 2025) EllapsedTime: 49.3 seconds RetCode: 0 Status: OK PackageFile: MetNet_1.26.1.zip PackageFileSize: 4.114 MiB