Package: MetID Version: 1.27.0 Command: F:\biocbuild\bbs-3.22-bioc\R\bin\R.exe CMD check --no-multiarch --install=check:MetID.install-out.txt --library=F:\biocbuild\bbs-3.22-bioc\R\library --no-vignettes --timings MetID_1.27.0.tar.gz StartedAt: 2025-08-15 05:05:53 -0400 (Fri, 15 Aug 2025) EndedAt: 2025-08-15 05:07:45 -0400 (Fri, 15 Aug 2025) EllapsedTime: 112.5 seconds RetCode: 0 Status: OK CheckDir: MetID.Rcheck Warnings: 0