Package: Mergeomics Version: 1.36.0 Command: rm -rf Mergeomics.buildbin-libdir && mkdir Mergeomics.buildbin-libdir && /Users/biocbuild/BBS/utils/build-universal.sh Mergeomics_1.36.0.tar.gz /Library/Frameworks/R.framework/Resources/bin/R Mergeomics.buildbin-libdir StartedAt: 2025-09-20 18:05:43 -0400 (Sat, 20 Sep 2025) EndedAt: 2025-09-20 18:05:51 -0400 (Sat, 20 Sep 2025) EllapsedTime: 7.9 seconds RetCode: 0 Status: OK PackageFile: Mergeomics_1.36.0.tgz PackageFileSize: 3.419 MiB