Package: MeSHDbi Version: 1.44.0 Command: /Library/Frameworks/R.framework/Resources/bin/R CMD build --keep-empty-dirs --no-resave-data MeSHDbi StartedAt: 2025-10-13 20:19:39 -0400 (Mon, 13 Oct 2025) EndedAt: 2025-10-13 20:20:14 -0400 (Mon, 13 Oct 2025) EllapsedTime: 35.6 seconds RetCode: 0 Status: OK PackageFile: MeSHDbi_1.44.0.tar.gz PackageFileSize: 120.3 KiB