Package: MeSHDbi Version: 1.44.0 Command: /Library/Frameworks/R.framework/Resources/bin/R CMD INSTALL MeSHDbi StartedAt: 2025-10-13 15:53:00 -0400 (Mon, 13 Oct 2025) EndedAt: 2025-10-13 15:53:15 -0400 (Mon, 13 Oct 2025) EllapsedTime: 14.9 seconds RetCode: 0 Status: OK