Package: MeSHDbi Version: 1.44.0 Command: /Library/Frameworks/R.framework/Resources/bin/R CMD check --install=check:MeSHDbi.install-out.txt --library=/Library/Frameworks/R.framework/Resources/library --no-vignettes --timings MeSHDbi_1.44.0.tar.gz StartedAt: 2025-10-15 02:44:05 -0400 (Wed, 15 Oct 2025) EndedAt: 2025-10-15 02:46:04 -0400 (Wed, 15 Oct 2025) EllapsedTime: 119.1 seconds RetCode: 0 Status: OK CheckDir: MeSHDbi.Rcheck Warnings: 0