Package: MatrixRider Version: 1.40.0 Command: /home/biocbuild/bbs-3.21-bioc/R/bin/R CMD INSTALL MatrixRider StartedAt: 2025-10-15 15:49:27 -0400 (Wed, 15 Oct 2025) EndedAt: 2025-10-15 15:50:04 -0400 (Wed, 15 Oct 2025) EllapsedTime: 36.7 seconds RetCode: 0 Status: OK