Package: MatrixRider Version: 1.40.0 Command: /home/biocbuild/bbs-3.21-bioc/R/bin/R CMD build --keep-empty-dirs --no-resave-data MatrixRider StartedAt: 2025-10-15 18:19:39 -0400 (Wed, 15 Oct 2025) EndedAt: 2025-10-15 18:20:31 -0400 (Wed, 15 Oct 2025) EllapsedTime: 52.0 seconds RetCode: 0 Status: OK PackageFile: MatrixRider_1.40.0.tar.gz PackageFileSize: 263.9 KiB