Package: MatrixGenerics Version: 1.22.0 Command: /home/biocbuild/bbs-3.22-bioc/R/bin/R CMD check --install=check:MatrixGenerics.install-out.txt --library=/home/biocbuild/bbs-3.22-bioc/R/site-library --timings MatrixGenerics_1.22.0.tar.gz StartedAt: 2025-11-10 01:17:14 -0500 (Mon, 10 Nov 2025) EndedAt: 2025-11-10 01:17:39 -0500 (Mon, 10 Nov 2025) EllapsedTime: 25.0 seconds RetCode: 0 Status: OK CheckDir: MatrixGenerics.Rcheck Warnings: 0