Package: MantelCorr Version: 1.80.0 Command: /home/biocbuild/R/R/bin/R CMD check --install=check:MantelCorr.install-out.txt --library=/home/biocbuild/R/R/site-library --no-vignettes --timings MantelCorr_1.80.0.tar.gz StartedAt: 2025-11-11 11:19:39 -0000 (Tue, 11 Nov 2025) EndedAt: 2025-11-11 11:20:05 -0000 (Tue, 11 Nov 2025) EllapsedTime: 25.1 seconds RetCode: 0 Status: OK CheckDir: MantelCorr.Rcheck Warnings: 0