Package: Maaslin2 Version: 1.24.0 Command: /Library/Frameworks/R.framework/Resources/bin/R CMD build --keep-empty-dirs --no-resave-data Maaslin2 StartedAt: 2025-10-31 17:38:32 -0400 (Fri, 31 Oct 2025) EndedAt: 2025-10-31 17:40:38 -0400 (Fri, 31 Oct 2025) EllapsedTime: 125.5 seconds RetCode: 1 Status: ERROR PackageFile: None PackageFileSize: NA