Package: Maaslin2 Version: 1.23.0 Command: rm -rf Maaslin2.buildbin-libdir && mkdir Maaslin2.buildbin-libdir && /Users/biocbuild/BBS/utils/build-universal.sh Maaslin2_1.23.0.tar.gz /Library/Frameworks/R.framework/Resources/bin/R Maaslin2.buildbin-libdir StartedAt: 2025-09-11 02:17:34 -0400 (Thu, 11 Sep 2025) EndedAt: 2025-09-11 02:17:51 -0400 (Thu, 11 Sep 2025) EllapsedTime: 16.3 seconds RetCode: 0 Status: OK PackageFile: Maaslin2_1.23.0.tgz PackageFileSize: 614.9 KiB