Package: MVCClass Version: 1.84.0 Command: /home/biocbuild/bbs-3.22-bioc/R/bin/R CMD INSTALL MVCClass StartedAt: 2025-11-10 15:10:14 -0500 (Mon, 10 Nov 2025) EndedAt: 2025-11-10 15:10:29 -0500 (Mon, 10 Nov 2025) EllapsedTime: 15.0 seconds RetCode: 0 Status: OK