Package: MSstatsShiny Version: 1.12.0 Command: /Library/Frameworks/R.framework/Resources/bin/R CMD INSTALL MSstatsShiny StartedAt: 2025-10-31 15:35:15 -0400 (Fri, 31 Oct 2025) EndedAt: 2025-10-31 15:35:26 -0400 (Fri, 31 Oct 2025) EllapsedTime: 11.7 seconds RetCode: 0 Status: OK