Package: MSstatsResponse Version: 1.0.0 Command: /home/biocbuild/bbs-3.22-bioc/R/bin/R CMD check --install=check:MSstatsResponse.install-out.txt --library=/home/biocbuild/bbs-3.22-bioc/R/site-library --timings MSstatsResponse_1.0.0.tar.gz StartedAt: 2025-11-07 01:52:41 -0500 (Fri, 07 Nov 2025) EndedAt: 2025-11-07 01:54:44 -0500 (Fri, 07 Nov 2025) EllapsedTime: 123.1 seconds RetCode: 0 Status: OK CheckDir: MSstatsResponse.Rcheck Warnings: 0