Package: MSstatsResponse Version: 1.0.0 Command: /home/biocbuild/bbs-3.22-bioc/R/bin/R CMD build --keep-empty-dirs --no-resave-data --md5 MSstatsResponse StartedAt: 2025-11-06 18:56:03 -0500 (Thu, 06 Nov 2025) EndedAt: 2025-11-06 18:57:06 -0500 (Thu, 06 Nov 2025) EllapsedTime: 63.1 seconds RetCode: 0 Status: OK PackageFile: MSstatsResponse_1.0.0.tar.gz PackageFileSize: 8.152 MiB