Package: MSstatsResponse Version: 1.0.0 Command: /Library/Frameworks/R.framework/Resources/bin/R CMD build --keep-empty-dirs --no-resave-data MSstatsResponse StartedAt: 2025-11-03 17:57:41 -0500 (Mon, 03 Nov 2025) EndedAt: 2025-11-03 17:59:15 -0500 (Mon, 03 Nov 2025) EllapsedTime: 93.5 seconds RetCode: 0 Status: OK PackageFile: MSstatsResponse_1.0.0.tar.gz PackageFileSize: 8.146 MiB