Package: MSstatsPTM Version: 2.12.0 Command: /home/biocbuild/R/R/bin/R CMD INSTALL MSstatsPTM StartedAt: 2025-11-13 21:32:54 -0000 (Thu, 13 Nov 2025) EndedAt: 2025-11-13 21:33:31 -0000 (Thu, 13 Nov 2025) EllapsedTime: 37.6 seconds RetCode: 0 Status: OK