Package: MSstatsPTM Version: 2.12.0 Command: /home/biocbuild/R/R/bin/R CMD check --install=check:MSstatsPTM.install-out.txt --library=/home/biocbuild/R/R/site-library --no-vignettes --timings MSstatsPTM_2.12.0.tar.gz StartedAt: 2025-11-18 12:23:30 -0000 (Tue, 18 Nov 2025) EndedAt: 2025-11-18 12:28:39 -0000 (Tue, 18 Nov 2025) EllapsedTime: 309.2 seconds RetCode: 0 Status: WARNINGS CheckDir: MSstatsPTM.Rcheck Warnings: 1