Package: MSstatsPTM Version: 2.12.0 Command: /home/biocbuild/R/R/bin/R CMD build --keep-empty-dirs --no-resave-data MSstatsPTM StartedAt: 2025-11-14 03:40:04 -0000 (Fri, 14 Nov 2025) EndedAt: 2025-11-14 03:41:57 -0000 (Fri, 14 Nov 2025) EllapsedTime: 113.1 seconds RetCode: 0 Status: OK PackageFile: MSstatsPTM_2.12.0.tar.gz PackageFileSize: 1.83 MiB