Package: MSstatsPTM Version: 2.11.4 Command: chmod a+r MSstatsPTM -R && F:\biocbuild\bbs-3.22-bioc\R\bin\R.exe CMD build --keep-empty-dirs --no-resave-data MSstatsPTM StartedAt: 2025-08-14 21:46:36 -0400 (Thu, 14 Aug 2025) EndedAt: 2025-08-14 21:49:23 -0400 (Thu, 14 Aug 2025) EllapsedTime: 166.6 seconds RetCode: 0 Status: OK PackageFile: MSstatsPTM_2.11.4.tar.gz PackageFileSize: 1.611 MiB