Package: MSstatsPTM Version: 2.12.0 Command: /home/biocbuild/bbs-3.22-bioc/R/bin/R CMD INSTALL MSstatsPTM StartedAt: 2025-11-16 15:26:15 -0500 (Sun, 16 Nov 2025) EndedAt: 2025-11-16 15:26:42 -0500 (Sun, 16 Nov 2025) EllapsedTime: 27.0 seconds RetCode: 0 Status: OK