Package: MSstatsPTM Version: 2.12.0 Command: /home/biocbuild/bbs-3.22-bioc/R/bin/R CMD build --keep-empty-dirs --no-resave-data --md5 MSstatsPTM StartedAt: 2025-11-16 19:03:31 -0500 (Sun, 16 Nov 2025) EndedAt: 2025-11-16 19:04:44 -0500 (Sun, 16 Nov 2025) EllapsedTime: 73.1 seconds RetCode: 0 Status: OK PackageFile: MSstatsPTM_2.12.0.tar.gz PackageFileSize: 2.867 MiB