Package: MSstatsPTM Version: 2.10.0 Command: /Library/Frameworks/R.framework/Resources/bin/R CMD check --install=check:MSstatsPTM.install-out.txt --library=/Library/Frameworks/R.framework/Resources/library --no-vignettes --timings MSstatsPTM_2.10.0.tar.gz StartedAt: 2025-04-21 22:09:38 -0400 (Mon, 21 Apr 2025) EndedAt: 2025-04-21 22:13:33 -0400 (Mon, 21 Apr 2025) EllapsedTime: 235.0 seconds RetCode: 0 Status: OK CheckDir: MSstatsPTM.Rcheck Warnings: 0