Package: MSstatsLiP Version: 1.16.0 Command: /home/biocbuild/bbs-3.22-bioc/R/bin/R CMD build --keep-empty-dirs --no-resave-data --md5 MSstatsLiP StartedAt: 2025-11-09 19:00:58 -0500 (Sun, 09 Nov 2025) EndedAt: 2025-11-09 19:01:52 -0500 (Sun, 09 Nov 2025) EllapsedTime: 54.1 seconds RetCode: 0 Status: OK PackageFile: MSstatsLiP_1.16.0.tar.gz PackageFileSize: 1.82 MiB