Package: MSstatsLiP Version: 1.14.2 Command: /Library/Frameworks/R.framework/Resources/bin/R CMD check --install=check:MSstatsLiP.install-out.txt --library=/Library/Frameworks/R.framework/Resources/library --no-vignettes --timings MSstatsLiP_1.14.2.tar.gz StartedAt: 2025-10-01 05:10:52 -0400 (Wed, 01 Oct 2025) EndedAt: 2025-10-01 05:14:37 -0400 (Wed, 01 Oct 2025) EllapsedTime: 224.9 seconds RetCode: 0 Status: OK CheckDir: MSstatsLiP.Rcheck Warnings: 0