Package: MSstats Version: 4.17.2 Command: /home/biocbuild/R/R/bin/R CMD build --keep-empty-dirs --no-resave-data MSstats StartedAt: 2025-10-21 01:34:03 -0000 (Tue, 21 Oct 2025) EndedAt: 2025-10-21 01:36:07 -0000 (Tue, 21 Oct 2025) EllapsedTime: 124.1 seconds RetCode: 0 Status: OK PackageFile: MSstats_4.17.2.tar.gz PackageFileSize: 358.8 KiB