Package: MSstats Version: 4.16.1 Command: rm -rf MSstats.buildbin-libdir && mkdir MSstats.buildbin-libdir && E:\biocbuild\bbs-3.21-bioc\R\bin\R.exe CMD INSTALL --build --library=MSstats.buildbin-libdir MSstats_4.16.1.tar.gz StartedAt: 2025-08-15 09:47:17 -0400 (Fri, 15 Aug 2025) EndedAt: 2025-08-15 09:48:50 -0400 (Fri, 15 Aug 2025) EllapsedTime: 92.7 seconds RetCode: 0 Status: OK PackageFile: MSstats_4.16.1.zip PackageFileSize: 1.065 MiB