Package: MSstats Version: 4.18.0 Command: /home/biocbuild/bbs-3.22-bioc/R/bin/R CMD check --install=check:MSstats.install-out.txt --library=/home/biocbuild/bbs-3.22-bioc/R/site-library --timings MSstats_4.18.0.tar.gz StartedAt: 2025-11-07 01:50:28 -0500 (Fri, 07 Nov 2025) EndedAt: 2025-11-07 01:53:05 -0500 (Fri, 07 Nov 2025) EllapsedTime: 157.1 seconds RetCode: 0 Status: WARNINGS CheckDir: MSstats.Rcheck Warnings: 1